BEGIN:VCALENDAR
VERSION:2.0
PRODID:-//wp-events-plugin.com//6.4.5.1//EN
TZID:Europe/Luxembourg
X-WR-TIMEZONE:Europe/Luxembourg
BEGIN:VEVENT
UID:1159@almina.lu
DTSTART;TZID=Europe/Luxembourg:20260722T173000
DTEND;TZID=Europe/Luxembourg:20260722T203000
DTSTAMP:20260119T164435Z
URL:https://www.almina.lu/events/stillvorbereitungskurs-wahrend-der-schwan
 gerschaft-de-lb-2/
SUMMARY:"Stillvorbereitungskurs" während der Schwangerschaft (DE/LB)
DESCRIPTION:Workshop fir schwanger Frae ewéi fir Koppelen\nGutt vierbereed
  op d’Stëllen\, virun de Bëbee op der Welt ass! Dëse Cours kann och z
 ousätzlech zu engem Gebuertsvierbereedungscours gebucht ginn\, oder och\,
  wann e schonn e Kand huet – säi Wëssen awer erweidere wëll.\n\nDir s
 idd schwanger an hutt Interessi ze stëllen? Dir hutt villäicht vill Froe
 n zu dem Thema oder sidd onsécher? Oder Dir wëllt einfach nëmme gutt vi
 erbereed sinn\, fir méiglech gutt starten ze kënnen? Dir hutt schon e Ka
 nd\, d’stëllen hat net ideal geklappt an Dir wëllt et elo besser hikr
 éien? \nDa sidd Dir bei eis genee richteg!\n\nNo der Gebuert huet een all
  Hänn voll ze dinn\, do ass et optimal wann e schonn am Virfeld weess wat
  op een duer kënnt. Dëses Cours ass virun e puer Joer entstanen\, aus de
 m Feedback de mir aus eise Stëllberodungen an dem Notreffen vun eise Gebu
 ertsvierbereedungscoursen kruten: “Hätt ech dat nëmmen am Viraus gewos
 st…” mir hunn Iech héieren 😊.\nMir weise Stëllpositiounen\, besch
 wätze verschiddenes zum Ofpompelen\, a ginn Iech vill praktesch Tipps mat
  op de Wee\, souwuel fir de Start ewéi iwwer eng länger Stëllzäit – 
 z.B. wann Dir d’Stëllen an d’Schaffe kombinéiere wëllt.\n\nMéi Inf
 os an Umeldung op: https://www.liewensufank.lu/de/cours/de-stillvorbereit
 ungskurs/
ATTACH;FMTTYPE=image/jpeg:https://www.almina.lu/wp-content/uploads/2026/01
 /pregnant-women-in-a-class-2025-02-09-23-09-28-utc-low.jpg
CATEGORIES:cours / formation
LOCATION:Initiativ Liewensufank Itzig\, 20\, rue de Contern\, Itzig\, 5955\
 , Luxembourg
GEO:49.585384;6.174631
X-APPLE-STRUCTURED-LOCATION;VALUE=URI;X-ADDRESS=20\, rue de Contern\, Itzig
 \, 5955\, Luxembourg;X-APPLE-RADIUS=100;X-TITLE=Initiativ Liewensufank Itz
 ig:geo:49.585384,6.174631
END:VEVENT
BEGIN:VTIMEZONE
TZID:Europe/Luxembourg
X-LIC-LOCATION:Europe/Luxembourg
BEGIN:DAYLIGHT
DTSTART:20260329T030000
TZOFFSETFROM:+0100
TZOFFSETTO:+0200
TZNAME:CEST
END:DAYLIGHT
END:VTIMEZONE
END:VCALENDAR