BEGIN:VCALENDAR
VERSION:2.0
PRODID:-//wp-events-plugin.com//6.4.5.1//EN
TZID:Europe/Luxembourg
X-WR-TIMEZONE:Europe/Luxembourg
BEGIN:VEVENT
UID:1198@almina.lu
DTSTART;TZID=Europe/Luxembourg:20260425T100000
DTEND;TZID=Europe/Luxembourg:20260426T180000
DTSTAMP:20260205T210157Z
URL:https://www.almina.lu/events/salon-du-bien-etre-2026-de-cosnes-et-roma
 in/
SUMMARY:Salon du Bien Etre 2026 de Cosnes et Romain
DESCRIPTION:Le Salon du Bien-Être de Cosnes-et-Romain le 25 &amp\; 26 AVRI
 L 2026\n\nÀ VOS AGENDAS ! Le Salon du Bien-Être de Cosnes-et-Romain orga
 nisé par le Lions Club de Longwy revient le 25 &amp\; 26 AVRIL 2026 ! Deu
 x jours dédiés à la santé naturelle et au mieux-être !\n\nAU PROGRAMM
 E :\n· Nombreux exposants &amp\; conférences inspirantes !\n· Santé au
  naturel &amp\; médecines douces\n· Développement personnel\n· Bien-ê
 tre chez soi &amp\; avec soi\n· Médiumnité / Voyance\n· Animation sant
 é : le Bus de la Vue – contrôle visuel &amp\; sensibilisation tout au 
 long de la journée du samedi et dimanche\n\nDATES ET HORAIRES :\n· Samed
 i 25 avril 2026 : 10h00 → 18h00\n· Dimanche 26 avril 2026 : 10h00 → 1
 8h00\n\nTARIFS :\n· Entrée 1 jour : 3 €\n· Enfants (0–14 ans) : Gra
 tuit\n\nLIEU : Salle des Sports Robert Schuman\nF - 55400 Cosnes-et-Romain
 \n\nSUR PLACE : Parking gratuit • Restauration\n\nFacebook : Lions Club 
 Longwy
ATTACH;FMTTYPE=image/jpeg:https://www.almina.lu/wp-content/uploads/2026/02
 /Copie-de-Salon-du-Bien-Etre-Cosnes-et-Romain.jpg
CATEGORIES:foire / marché
LOCATION:Complexe sportif de Cosnes et Romain\, rue Robert Schuman\, Cosnes
  et Romain\, 54400\, France
GEO:49.519654;5.718185
X-APPLE-STRUCTURED-LOCATION;VALUE=URI;X-ADDRESS=rue Robert Schuman\, Cosnes
  et Romain\, 54400\, France;X-APPLE-RADIUS=100;X-TITLE=Complexe sportif de
  Cosnes et Romain:geo:49.519654,5.718185
END:VEVENT
BEGIN:VTIMEZONE
TZID:Europe/Luxembourg
X-LIC-LOCATION:Europe/Luxembourg
BEGIN:DAYLIGHT
DTSTART:20260329T030000
TZOFFSETFROM:+0100
TZOFFSETTO:+0200
TZNAME:CEST
END:DAYLIGHT
END:VTIMEZONE
END:VCALENDAR