BEGIN:VCALENDAR
VERSION:2.0
PRODID:-//wp-events-plugin.com//6.4.5.1//EN
TZID:Europe/Luxembourg
X-WR-TIMEZONE:Europe/Luxembourg
BEGIN:VEVENT
UID:1179@almina.lu
DTSTART;TZID=Europe/Luxembourg:20260626T193000
DTEND;TZID=Europe/Luxembourg:20260626T210000
DTSTAMP:20260119T163843Z
URL:https://www.almina.lu/events/pikler-elternraum-kostenlos-3/
SUMMARY:Pikler ElternRaum - Kostenlos
DESCRIPTION:Der ElternRaum richtet sich an alle jetzigen und zukünftigen E
 ltern und Großeltern.\n”Der unverbindliche Einblick in den Kurs und die
  Pädagogik – begleitend zum Pikler-SpielRaum!\nSie sind bereits im Spie
 lRaum mit Ihrem Kind/Ihren Kindern oder waren noch nie dabei\, sind jedoch
  an weiteren Informationen interessiert? Möchten Sie mehr über die Pikle
 r-Pädagogik erfahren oder haben Sie bereits davon gehört und würden ger
 ne erst einmal reinschnuppern?\nOb Sie bereits Kunde sind oder unverbindli
 ch am ElternRaum teilnehmen möchten\, wir bieten Ihnen die Möglichkeit z
 u einem lebendigen Austausch mit unserer Pikler-Expertin.”\n\nGeleitet w
 ird der ElternRaum von unserer Pikler Pädagogin und Kursleiterin Claudia 
 Goudemond.\n\nMehr Infos\, Anmeldung und weitere Termine: https://www.liew
 ensufank.lu/de/cours/pikler-elternraum/
ATTACH;FMTTYPE=image/jpeg:https://www.almina.lu/wp-content/uploads/2026/01
 /8-low.jpg
CATEGORIES:divers,partage,réunion
LOCATION:Initiativ Liewensufank Itzig\, 20\, rue de Contern\, Itzig\, 5955\
 , Luxembourg
GEO:49.585384;6.174631
X-APPLE-STRUCTURED-LOCATION;VALUE=URI;X-ADDRESS=20\, rue de Contern\, Itzig
 \, 5955\, Luxembourg;X-APPLE-RADIUS=100;X-TITLE=Initiativ Liewensufank Itz
 ig:geo:49.585384,6.174631
END:VEVENT
BEGIN:VTIMEZONE
TZID:Europe/Luxembourg
X-LIC-LOCATION:Europe/Luxembourg
BEGIN:DAYLIGHT
DTSTART:20260329T030000
TZOFFSETFROM:+0100
TZOFFSETTO:+0200
TZNAME:CEST
END:DAYLIGHT
END:VTIMEZONE
END:VCALENDAR