BEGIN:VCALENDAR
VERSION:2.0
PRODID:-//wp-events-plugin.com//6.4.5.1//EN
TZID:Europe/Luxembourg
X-WR-TIMEZONE:Europe/Luxembourg
BEGIN:VEVENT
UID:1165@almina.lu
DTSTART;TZID=Europe/Luxembourg:20260603T163000
DTEND;TZID=Europe/Luxembourg:20260603T173000
DTSTAMP:20260119T163750Z
URL:https://www.almina.lu/events/mamayoga-before-birth-eng-3/
SUMMARY:MamaYOGA before birth (ENG)
DESCRIPTION:”MamaYOGA” before birth – Calm\, Strength &amp\; Balance\
 nOur prenatal yoga class helps expectant mothers stay active\, relaxed\, a
 nd connected with their growing bodies. Gentle asanas and pranayama (breat
 hing techniques) prepare you physically and mentally for birth\, making pr
 egnancy and labour more manageable.\n\nWhether you’re a beginner or expe
 rienced\, our class is tailored to your needs. You’ll gently build stren
 gth\, flexibility\, and confidence while easing common pregnancy discomfor
 ts like back pain\, heavy legs\, or water retention.\n\nBenefits of MamaYO
 GA:\n\n 	Enjoy your pregnancy fully\n 	Cultivate calm and serenity\n 	Buil
 d confidence for birth\n 	Relieve common pregnancy discomforts\n\nDetails 
 and registration: www.liewensufank.lu/fr/cours/mamayoga-before-birth/
ATTACH;FMTTYPE=image/jpeg:https://www.almina.lu/wp-content/uploads/2026/01
 /Depositphotos_483518740_XL-low.jpg
CATEGORIES:cours / formation
LOCATION:Initiativ Liewensufank Itzig\, 20\, rue de Contern\, Itzig\, 5955\
 , Luxembourg
GEO:49.585384;6.174631
X-APPLE-STRUCTURED-LOCATION;VALUE=URI;X-ADDRESS=20\, rue de Contern\, Itzig
 \, 5955\, Luxembourg;X-APPLE-RADIUS=100;X-TITLE=Initiativ Liewensufank Itz
 ig:geo:49.585384,6.174631
END:VEVENT
BEGIN:VTIMEZONE
TZID:Europe/Luxembourg
X-LIC-LOCATION:Europe/Luxembourg
BEGIN:DAYLIGHT
DTSTART:20260329T030000
TZOFFSETFROM:+0100
TZOFFSETTO:+0200
TZNAME:CEST
END:DAYLIGHT
END:VTIMEZONE
END:VCALENDAR