BEGIN:VCALENDAR
VERSION:2.0
PRODID:-//wp-events-plugin.com//6.4.5.1//EN
TZID:Europe/Luxembourg
X-WR-TIMEZONE:Europe/Luxembourg
BEGIN:VEVENT
UID:1170@almina.lu
DTSTART;TZID=Europe/Luxembourg:20260603T150000
DTEND;TZID=Europe/Luxembourg:20260603T160000
DTSTAMP:20260119T163702Z
URL:https://www.almina.lu/events/mamayoga-after-birth-eng-with-your-baby-3
 /
SUMMARY:MamaYOGA after birth (ENG) with your baby
DESCRIPTION:MamaYOGA after birth (ENG) with your baby\nSuitable for women f
 rom six weeks after giving birth\, with their babies\, up to crawling age.
 \n\nYoga focuses on appreciating the body after childbirth and relaxing th
 e mind.\n\nPregnancy (the weight of the baby)\, childbirth (physically and
  psychologically)\, and breastfeeding (opening up) change a woman’s body
 \, particularly the pelvic floor. Giving birth and life with a newborn are
  new challenges. Especially during this special time\, it is important not
  to always put our own needs last. Yoga allows us to take a deep breath\, 
 regain strength\, find our own centre again\, and bring body and mind into
  harmony.\n\nThe exercises are simple and adapted to address our bodies wh
 ile also strengthening the pelvic floor and core muscles after childbirth.
 \n\nStrengthening the pelvic floor also reinforces one’s role as a woman
 .\n\n&nbsp\;\n\nDetails and registration: www.liewensufank.lu/fr/cours/mam
 ayoga-after-birth/\n\n&nbsp\;
ATTACH;FMTTYPE=image/jpeg:https://www.almina.lu/wp-content/uploads/2026/01
 /mother-with-her-baby-daughter-practice-yoga-low.jpg
CATEGORIES:cours / formation
LOCATION:Initiativ Liewensufank Itzig\, 20\, rue de Contern\, Itzig\, 5955\
 , Luxembourg
GEO:49.585384;6.174631
X-APPLE-STRUCTURED-LOCATION;VALUE=URI;X-ADDRESS=20\, rue de Contern\, Itzig
 \, 5955\, Luxembourg;X-APPLE-RADIUS=100;X-TITLE=Initiativ Liewensufank Itz
 ig:geo:49.585384,6.174631
END:VEVENT
BEGIN:VTIMEZONE
TZID:Europe/Luxembourg
X-LIC-LOCATION:Europe/Luxembourg
BEGIN:DAYLIGHT
DTSTART:20260329T030000
TZOFFSETFROM:+0100
TZOFFSETTO:+0200
TZNAME:CEST
END:DAYLIGHT
END:VTIMEZONE
END:VCALENDAR