BEGIN:VCALENDAR
VERSION:2.0
PRODID:-//wp-events-plugin.com//6.4.5.1//EN
TZID:Europe/Luxembourg
X-WR-TIMEZONE:Europe/Luxembourg
BEGIN:VEVENT
UID:1219@almina.lu
DTSTART;TZID=Europe/Luxembourg:20260627T100000
DTEND;TZID=Europe/Luxembourg:20260627T160000
DTSTAMP:20260216T135108Z
URL:https://www.almina.lu/events/lasst-und-zusammen-kochen-bunte-sommerzei
 t-einfachen-und-raffinierten-vegane-rezepten-fur-den-sommer/
SUMMARY:Lasst und zusammen kochen: Bunte Sommerzeit - einfachen und raffini
 erten vegane Rezepten für den Sommer
DESCRIPTION:Mit saisonalen Zutaten kochen wir leckere vegane Gerichte\, die
  immer gut ankommen: ob für die Familie\, den Singlehaushalt oder die Gri
 llparty. Du lernst wie Du die Rezepte ganz einfach variieren und vielseiti
 g umwandeln kannst.\nReserviere jetzt Deinen Platz oder buche deinen indiv
 iduellen Termin nach Absprache.\nDie Teilnehmerzahl ist auf 3 Personen bes
 chränkt\n\nDu kannst mich allein besuchen kommen oder Freunde mitbringen.
 \nDie Kosten richten sich nach der Teilnehmerzahl und liegen zwischen 90 u
 nd 120 Euro pro Person.\n\nTelefon/SMS/WhatsApp: +352 691 306 721\nE-Mail:
  info@gilmiths-garden.com\n\nMehr Infos auf meiner Webseite: https://gilmi
 ths-garden.com/angebote\nFacebook: https://www.facebook.com/profile.php?id
 =61576604333501\nInstagram: https://www.instagram.com/gilmiths_garden/\n\n
ATTACH;FMTTYPE=image/jpeg:https://www.almina.lu/wp-content/uploads/2026/02
 /Kochkurs_3-scaled.jpg
CATEGORIES:cours / formation
LOCATION:Dirbach\, Dirbach\, Luxembourg
GEO:49.920614;6.036168
X-APPLE-STRUCTURED-LOCATION;VALUE=URI;X-ADDRESS=Dirbach\, Luxembourg;X-APPL
 E-RADIUS=100;X-TITLE=Dirbach:geo:49.920614,6.036168
END:VEVENT
BEGIN:VTIMEZONE
TZID:Europe/Luxembourg
X-LIC-LOCATION:Europe/Luxembourg
BEGIN:DAYLIGHT
DTSTART:20260329T030000
TZOFFSETFROM:+0100
TZOFFSETTO:+0200
TZNAME:CEST
END:DAYLIGHT
END:VTIMEZONE
END:VCALENDAR