BEGIN:VCALENDAR
VERSION:2.0
PRODID:-//wp-events-plugin.com//6.4.5.1//EN
TZID:Europe/Luxembourg
X-WR-TIMEZONE:Europe/Luxembourg
BEGIN:VEVENT
UID:1158@almina.lu
DTSTART;TZID=Europe/Luxembourg:20260609T173000
DTEND;TZID=Europe/Luxembourg:20260609T200000
DTSTAMP:20260119T163806Z
URL:https://www.almina.lu/events/hypnobirthing-fur-paare-ab-der-20-ssw-5/
SUMMARY:HypnoBirthing® für Paare\, ab der 20. SSW.
DESCRIPTION:HypnoBirthing® – für eine sanfte\, selbstbestimmte Geburt\n
 Manch schwangere Frau ist verunsichert oder hat Angst vor der Geburt. Hypn
 oBirthing® zeigt\, wie Entspannung\, Atemtechniken und Wissen helfen\, di
 e Geburt leichter\, friedlicher und oft schmerzfreier zu erleben.\n\nMutte
 r\, Partner:in und Baby profitieren: Der/die Partner:in wird aktiv eingebu
 nden\, Babys kommen entspannt zur Welt und starten ruhig ins Leben.\n\nKur
 sinfos:\n\n 	13 Stunden\, 5 Termine (aufeinander aufbauend)\n 	Idealer Sta
 rt: ab der 20. Schwangerschaftswoche\n 	Sprachen: Luxemb.\, Deutsch\, Fran
 zösisch\, Englisch\n 	Kleine Gruppen (2–5 Paare)\n 	Anmeldung über den
  Link: www.liewensufank.lu/de/cours/hypnobirthing/\n
ATTACH;FMTTYPE=image/jpeg:https://www.almina.lu/wp-content/uploads/2026/01
 /2026_01-Firefly-Hypnobirthing1-low.jpg
CATEGORIES:cours / formation
LOCATION:Initiativ Liewensufank Itzig\, 20\, rue de Contern\, Itzig\, 5955\
 , Luxembourg
GEO:49.585384;6.174631
X-APPLE-STRUCTURED-LOCATION;VALUE=URI;X-ADDRESS=20\, rue de Contern\, Itzig
 \, 5955\, Luxembourg;X-APPLE-RADIUS=100;X-TITLE=Initiativ Liewensufank Itz
 ig:geo:49.585384,6.174631
END:VEVENT
BEGIN:VTIMEZONE
TZID:Europe/Luxembourg
X-LIC-LOCATION:Europe/Luxembourg
BEGIN:DAYLIGHT
DTSTART:20260329T030000
TZOFFSETFROM:+0100
TZOFFSETTO:+0200
TZNAME:CEST
END:DAYLIGHT
END:VTIMEZONE
END:VCALENDAR