BEGIN:VCALENDAR
VERSION:2.0
PRODID:-//wp-events-plugin.com//6.4.5.1//EN
TZID:Europe/Luxembourg
X-WR-TIMEZONE:Europe/Luxembourg
BEGIN:VEVENT
UID:1303@almina.lu
DTSTART;TZID=Europe/Luxembourg:20260704T110000
DTEND;TZID=Europe/Luxembourg:20260704T180000
DTSTAMP:20260410T111250Z
URL:https://www.almina.lu/events/dein-thema-deine-frage-deine-antwort-aufs
 tellungsprozess-mit-lebenskreisekarten-2/
SUMMARY:DEIN THEMA - DEINE FRAGE - DEINE ANTWORT:  Aufstellungsprozess mit 
 Lebenskreisekarten
DESCRIPTION:DEIN THEMA – DEINE FRAGE – DEINE ANTWORT Aufstellungsprozes
 s(Familie\, Arbeitsplatz\, aktuelles Thema\, Herzenswunsch) mit Lebenskrei
 se-Karten dazu Zeichnen und Journaling\, Klänge und Töne\, Ausdrucksvoll
 e Bewegungen und Meditative Übungen Regelmässiger Workshop mit Marie Ket
 ter &amp\; Alfred Groff Samstag 4. Juli 2026 (11:00-18:00) in Attert (B) A
 nmeldung: marieketter@pt.lu  +352 621 319856 alfredgroff@hotmail.com  +3
 52 621 228051 Beitrag: 85€ (Überweisung vor dem Workshop) oder 95€ ba
 r vor Ort (Ermässigungen in besonderen Lebenslagen) °°°°°°°°°°
 °°°°°°°°°°°°°°°°°°°°°°°°°°°°°°°°°°°°°
 °°°°°°°°°°°°°°°°°°°°°°°°°°°°°°°°° Nach de
 m Workshop (18:00-22:00) Geselligkeit &amp\; Austausch GEMEINSAMES ESSEN 
 – GESPRÄCHE – IMPROVISATIONEN Bitte mitbringen Wasserflasche\, Sitzki
 ssen\, Decke\, bequeme Kleidung\, Notizbuch\, Essen nach pers.Bedarf für 
 zwischendurch &amp\; Essen zum Teilen\, wenn du nach dem Workshop bleibst 
 Addresse: 219\, Rue des 2 Églises\, 6717 Attert\, Belgien (oder 219\, Rue
  de Redange – je nach Navigationssystem) Parken: Bitte den kleinen Weg i
 n der Rue des 2 Églises nehmen\, der zur oberen Kirche hinaufführt (ca. 
 100 m vom Veranstaltungsort). Von dort zu Fuß zurückgehen und weiter bis
  zum letzten Haus\, Nr. 219\, Rue des 2 Églises\, auf der linken Seite vo
 r der Kurve am Dorfausgang von Attert in Richtung Redange (L).
ATTACH;FMTTYPE=image/jpeg:https://www.almina.lu/wp-content/uploads/2026/04
 /WORKSHOP-Mai-Juli-2026-vers-D.jpg
CATEGORIES:atelier / stage
LOCATION:Attert\, 219 rue des Deux Eglises (près de Arlon\, Belgique)\, 21
 9\, rue des Deux Eglises\, Attert\, Belgien\, 6717 \, Belgique
GEO:49.750547;5.790542
X-APPLE-STRUCTURED-LOCATION;VALUE=URI;X-ADDRESS=219\, rue des Deux Eglises\
 , Attert\, Belgien\, 6717 \, Belgique;X-APPLE-RADIUS=100;X-TITLE=Attert\, 
 219 rue des Deux Eglises (près de Arlon\, Belgique):geo:49.750547,5.79054
 2
END:VEVENT
BEGIN:VTIMEZONE
TZID:Europe/Luxembourg
X-LIC-LOCATION:Europe/Luxembourg
BEGIN:DAYLIGHT
DTSTART:20260329T030000
TZOFFSETFROM:+0100
TZOFFSETTO:+0200
TZNAME:CEST
END:DAYLIGHT
END:VTIMEZONE
END:VCALENDAR