BEGIN:VCALENDAR
VERSION:2.0
PRODID:-//wp-events-plugin.com//6.4.5.1//EN
TZID:Europe/Luxembourg
X-WR-TIMEZONE:Europe/Luxembourg
BEGIN:VEVENT
UID:1326@almina.lu
DTSTART;TZID=Europe/Luxembourg:20260503T120000
DTEND;TZID=Europe/Luxembourg:20260503T140000
DTSTAMP:20260423T190625Z
URL:https://www.almina.lu/events/cours-de-cuisine-vegetarienne-2026-05-03/
SUMMARY:Cours de cuisine végétarienne
DESCRIPTION:Cours de cuisine végétarienne pour tous les âges et niveaux\
 n\nCuisine variée internationale.\n\nVérifiez les dates sur:\n\nhttps://
 ellenrenneboog.wixsite.com/ellenrenneboog\n\nCours multilingue\n\nInscript
 ion nécessaire.
ATTACH;FMTTYPE=image/jpeg:https://www.almina.lu/wp-content/uploads/2026/04
 /IMG_1434.jpeg
CATEGORIES:cours / formation
END:VEVENT
BEGIN:VTIMEZONE
TZID:Europe/Luxembourg
X-LIC-LOCATION:Europe/Luxembourg
BEGIN:DAYLIGHT
DTSTART:20260329T030000
TZOFFSETFROM:+0100
TZOFFSETTO:+0200
TZNAME:CEST
END:DAYLIGHT
END:VTIMEZONE
END:VCALENDAR