BEGIN:VCALENDAR
VERSION:2.0
PRODID:-//wp-events-plugin.com//6.4.5.1//EN
TZID:Europe/Luxembourg
X-WR-TIMEZONE:Europe/Luxembourg
BEGIN:VEVENT
UID:1174@almina.lu
DTSTART;TZID=Europe/Luxembourg:20260624T104500
DTEND;TZID=Europe/Luxembourg:20260624T121500
DTSTAMP:20260119T163831Z
URL:https://www.almina.lu/events/babymassage-lb-de-4/
SUMMARY:Babymassage (LB/DE)
DESCRIPTION:Dieser Kurs ist geeignet für Babys\, die 1 bis 6 Monate alt si
 nd.\n\nBabymassage – Nähe\, Vertrauen &amp\; Wohlbefinden\n\nLernen Sie
 \, Ihr Baby durch gezielte Massagegriffe zu fördern und besser zu versteh
 en. Die Babymassage unterstützt die körperliche Entwicklung\, stärkt di
 e Bindung und vermittelt Sicherheit im Umgang mit Ihrem Kind. Babys könne
 n bereits wenige Wochen nach der Geburt teilnehmen\, sobald der Alltag sic
 h etwas eingespielt hat.\n\nDer Kurs umfasst fünf Einheiten à 1½ Stunde
 n\, in denen Sie die Massagegriffe praktisch erlernen und erfahren\, wie S
 ie Ihr Baby dabei nicht überfordern. Es bleibt ausreichend Zeit für Aust
 ausch\, Fragen und eine entspannte gemeinsame Zeit.\n\nRegelmäßige Massa
 ge wirkt sich positiv auf das Baby aus: es wird ausgeglichener\, schläft 
 besser\, hat weniger Koliken und schreit weniger.\n\nMehr Infos und Anmeld
 ung: www.liewensufank.lu/de/cours/de-babymassage/ \n\n&nbsp\;
ATTACH;FMTTYPE=image/jpeg:https://www.almina.lu/wp-content/uploads/2026/01
 /Screen-Shot-2016-07-18-low2.jpg
CATEGORIES:cours / formation
LOCATION:initiativ liewensufank\, Initiativ Liewensufank - Salle Polyvalent
 e E-Wierk 21-23\, Hooveleker Buurchmauer\, Echternach\, 6418\, Luxembourg
GEO:49.810392;6.420916
X-APPLE-STRUCTURED-LOCATION;VALUE=URI;X-ADDRESS=Initiativ Liewensufank - Sa
 lle Polyvalente E-Wierk 21-23\, Hooveleker Buurchmauer\, Echternach\, 6418
 \, Luxembourg;X-APPLE-RADIUS=100;X-TITLE=initiativ liewensufank:geo:49.810
 392,6.420916
END:VEVENT
BEGIN:VTIMEZONE
TZID:Europe/Luxembourg
X-LIC-LOCATION:Europe/Luxembourg
BEGIN:DAYLIGHT
DTSTART:20260329T030000
TZOFFSETFROM:+0100
TZOFFSETTO:+0200
TZNAME:CEST
END:DAYLIGHT
END:VTIMEZONE
END:VCALENDAR